BEGIN:VCALENDAR
VERSION:2.0
PRODID:-//Contratero//ES
CALSCALE:GREGORIAN
METHOD:PUBLISH
BEGIN:VEVENT
UID:L66 2022@contratero.es
DTSTAMP:20260423T184759Z
DTSTART:20220701T235959
DTEND:20220702T005959
SUMMARY:Cierre: Servicio para la implantación y despliegue de un P
DESCRIPTION:Servicio para la implantación y despliegue de un Portal del Empleado con Gestor Documental y soporte técnico para Promálaga\\n\\nOrganismo: Dirección Gerencia de la Empresa Municipal de Iniciativas y Actividades Empresariales de Málaga S.A.\\n\\nVer en Contratero: https://contratero.es/contracts/L66 2022
URL:https://contratero.es/contracts/L66 2022
STATUS:CONFIRMED
BEGIN:VALARM
TRIGGER:-P1D
ACTION:DISPLAY
DESCRIPTION:Recordatorio: Servicio para la implantación 
END:VALARM
END:VEVENT
END:VCALENDAR